BEGIN:VCALENDAR
VERSION:2.0
PRODID:-//Communist Party USA - ECPv6.15.11//NONSGML v1.0//EN
CALSCALE:GREGORIAN
METHOD:PUBLISH
X-WR-CALNAME:Communist Party USA
X-ORIGINAL-URL:https://www.cpusa.org
X-WR-CALDESC:Events for Communist Party USA
REFRESH-INTERVAL;VALUE=DURATION:PT1H
X-Robots-Tag:noindex
X-PUBLISHED-TTL:PT1H
BEGIN:VTIMEZONE
TZID:America/New_York
BEGIN:DAYLIGHT
TZOFFSETFROM:-0500
TZOFFSETTO:-0400
TZNAME:EDT
DTSTART:20160313T070000
END:DAYLIGHT
BEGIN:STANDARD
TZOFFSETFROM:-0400
TZOFFSETTO:-0500
TZNAME:EST
DTSTART:20161106T060000
END:STANDARD
BEGIN:DAYLIGHT
TZOFFSETFROM:-0500
TZOFFSETTO:-0400
TZNAME:EDT
DTSTART:20170312T070000
END:DAYLIGHT
BEGIN:STANDARD
TZOFFSETFROM:-0400
TZOFFSETTO:-0500
TZNAME:EST
DTSTART:20171105T060000
END:STANDARD
BEGIN:DAYLIGHT
TZOFFSETFROM:-0500
TZOFFSETTO:-0400
TZNAME:EDT
DTSTART:20180311T070000
END:DAYLIGHT
BEGIN:STANDARD
TZOFFSETFROM:-0400
TZOFFSETTO:-0500
TZNAME:EST
DTSTART:20181104T060000
END:STANDARD
END:VTIMEZONE
BEGIN:VEVENT
DTSTART;VALUE=DATE:20171111
DTEND;VALUE=DATE:20171113
DTSTAMP:20260423T161314
CREATED:20170916T184905Z
LAST-MODIFIED:20170916T191247Z
UID:16212-1510358400-1510531199@www.cpusa.org
SUMMARY:National party building conference
DESCRIPTION:Join party members from all across the country for a two day conference to plan the all rounded building of the CPUSA.  The conference broadcast online and will be held the same day in Chicago\, New Haven\, Los Angeles and Orlando. Write membership@cpusa.org for more information.
URL:https://www.cpusa.org/event/national-party-building-conference/
CATEGORIES:Meetings,Webinar
ATTACH;FMTTYPE=image/jpeg:https://www.cpusa.org/wp-content/uploads/2017/09/Horneevent.jpg
END:VEVENT
END:VCALENDAR